BEGIN:VCALENDAR
VERSION:2.0
PRODID:-//Kauhajoen mets&auml;stysj&auml;rjest&ouml;t - ECPv6.15.19//NONSGML v1.0//EN
CALSCALE:GREGORIAN
METHOD:PUBLISH
X-WR-CALNAME:Kauhajoen mets&auml;stysj&auml;rjest&ouml;t
X-ORIGINAL-URL:https://www.kauhajoenmetsastys.fi
X-WR-CALDESC:Tapahtumat Kauhajoen mets&auml;stysj&auml;rjest&ouml;t
REFRESH-INTERVAL;VALUE=DURATION:PT1H
X-Robots-Tag:noindex
X-PUBLISHED-TTL:PT1H
BEGIN:VTIMEZONE
TZID:UTC
BEGIN:STANDARD
TZOFFSETFROM:+0000
TZOFFSETTO:+0000
TZNAME:UTC
DTSTART:20220101T000000
END:STANDARD
END:VTIMEZONE
BEGIN:VEVENT
DTSTART;TZID=UTC:20230329T180000
DTEND;TZID=UTC:20230329T200000
DTSTAMP:20260426T043523
CREATED:20230312T180049Z
LAST-MODIFIED:20230312T180049Z
UID:2268-1680112800-1680120000@www.kauhajoenmetsastys.fi
SUMMARY:Hyypän kyläosaston vuosikokous
DESCRIPTION:Tervetuloa Hyypän kyläosaston vuosikokoukseen 29.3.2023 klo 18.00 Hyypän Majalle. \nKokouksessa käsitellään sääntömääräiset asiat. \nTeams linkki tulossa.
URL:https://www.kauhajoenmetsastys.fi/event/hyypan-kylaosaston-vuosikokous-2/
LOCATION:Hyypän Maja\, Könnönkyläntie 25\, 61940
END:VEVENT
END:VCALENDAR