BEGIN:VCALENDAR
VERSION:2.0
PRODID:-//Kauhajoen mets&auml;stysj&auml;rjest&ouml;t - ECPv6.15.19//NONSGML v1.0//EN
CALSCALE:GREGORIAN
METHOD:PUBLISH
X-WR-CALNAME:Kauhajoen mets&auml;stysj&auml;rjest&ouml;t
X-ORIGINAL-URL:https://www.kauhajoenmetsastys.fi
X-WR-CALDESC:Tapahtumat Kauhajoen mets&auml;stysj&auml;rjest&ouml;t
REFRESH-INTERVAL;VALUE=DURATION:PT1H
X-Robots-Tag:noindex
X-PUBLISHED-TTL:PT1H
BEGIN:VTIMEZONE
TZID:UTC
BEGIN:STANDARD
TZOFFSETFROM:+0000
TZOFFSETTO:+0000
TZNAME:UTC
DTSTART:20220101T000000
END:STANDARD
END:VTIMEZONE
BEGIN:VEVENT
DTSTART;TZID=UTC:20230330T190000
DTEND;TZID=UTC:20230330T210000
DTSTAMP:20260426T043522
CREATED:20230324T153439Z
LAST-MODIFIED:20230324T153439Z
UID:2279-1680202800-1680210000@www.kauhajoenmetsastys.fi
SUMMARY:Mattila-Harjan kyläosaston VUOSIKOKOUS 30.3.2023 klo 19.00
DESCRIPTION:Mattila-Harjan kyläosaston\nVUOSIKOKOUS\nSOTKAN ERÄHOVILLA 30.3.2023 klo 19.00\nKäsitellään sääntöjen vuosikokoukselle\nmääräämät asiat.\nJOHTOKUNTA \nJohtokunta kokoontuu klo 18.00
URL:https://www.kauhajoenmetsastys.fi/event/mattila-harjan-kylaosaston-vuosikokous-30-3-2023-klo-19-00/
LOCATION:kauhajoki erähovi\, Erähovintie 60\, Kauhajoki
END:VEVENT
END:VCALENDAR