BEGIN:VCALENDAR
VERSION:2.0
PRODID:-//Kauhajoen mets&auml;stysj&auml;rjest&ouml;t - ECPv6.15.19//NONSGML v1.0//EN
CALSCALE:GREGORIAN
METHOD:PUBLISH
X-ORIGINAL-URL:https://www.kauhajoenmetsastys.fi
X-WR-CALDESC:Tapahtumat Kauhajoen mets&auml;stysj&auml;rjest&ouml;t
REFRESH-INTERVAL;VALUE=DURATION:PT1H
X-Robots-Tag:noindex
X-PUBLISHED-TTL:PT1H
BEGIN:VTIMEZONE
TZID:UTC
BEGIN:STANDARD
TZOFFSETFROM:+0000
TZOFFSETTO:+0000
TZNAME:UTC
DTSTART:20220101T000000
END:STANDARD
END:VTIMEZONE
BEGIN:VEVENT
DTSTART;TZID=UTC:20230424T180000
DTEND;TZID=UTC:20230424T200000
DTSTAMP:20260426T043655
CREATED:20230307T135640Z
LAST-MODIFIED:20230424T143141Z
UID:2262-1682359200-1682366400@www.kauhajoenmetsastys.fi
SUMMARY:Kauhajoen Metsästysseuran Vuosikokous Erähovilla 24.4.2023 klo 18.00
DESCRIPTION:Tervetuloa Kauhajoen Metsästysseura Ry:n vuosikokoukseen Erähoville 24.4.2023 klo 18.00. \nKokouksessa käsitellään sääntöjen määräämät asiat\, sekä Hyypän kyläosaston Majan hankekokonaisuus sekä hankkeen rahoittamiseen liittyvän lainan nostaminen. \nKokoukseen on mahdollista osallistua myös Teamsilla \nhttps://teams.microsoft.com/l/meetup-join/19%3ameeting_MjZkYWJhM2QtMTgwYS00NzhmLWEwMzgtNTJhZTIwZWM0YjA2%40thread.v2/0?context=%7b%22Tid%22%3a%22ba060e1d-9fae-4262-90c1-2e47b15d5750%22%2c%22Oid%22%3a%22c74fd378-3ce7-4d42-a467-2c6444865159%22%7d \n 
URL:https://www.kauhajoenmetsastys.fi/event/kauhajoen-metsastysseuran-vuosikokous-erahovilla-24-4-2023-klo-18-00/
LOCATION:kauhajoki erähovi\, Erähovintie 60\, Kauhajoki
END:VEVENT
END:VCALENDAR