BEGIN:VCALENDAR
VERSION:2.0
PRODID:-//Kauhajoen mets&auml;stysj&auml;rjest&ouml;t - ECPv6.15.19//NONSGML v1.0//EN
CALSCALE:GREGORIAN
METHOD:PUBLISH
X-ORIGINAL-URL:https://www.kauhajoenmetsastys.fi
X-WR-CALDESC:Tapahtumat Kauhajoen mets&auml;stysj&auml;rjest&ouml;t
REFRESH-INTERVAL;VALUE=DURATION:PT1H
X-Robots-Tag:noindex
X-PUBLISHED-TTL:PT1H
BEGIN:VTIMEZONE
TZID:UTC
BEGIN:STANDARD
TZOFFSETFROM:+0000
TZOFFSETTO:+0000
TZNAME:UTC
DTSTART:20220101T000000
END:STANDARD
END:VTIMEZONE
BEGIN:VEVENT
DTSTART;TZID=UTC:20230803T180000
DTEND;TZID=UTC:20230803T200000
DTSTAMP:20260423T193835
CREATED:20230530T090312Z
LAST-MODIFIED:20230530T090312Z
UID:2337-1691085600-1691092800@www.kauhajoenmetsastys.fi
SUMMARY:Hirviherraottelu Päntäne
DESCRIPTION:Hirviherraottelu klo 18 alkaen
URL:https://www.kauhajoenmetsastys.fi/event/hirviherraottelu-pantane/
END:VEVENT
BEGIN:VEVENT
DTSTART;TZID=UTC:20230803T180000
DTEND;TZID=UTC:20230803T200000
DTSTAMP:20260423T193835
CREATED:20230721T071414Z
LAST-MODIFIED:20230721T071434Z
UID:2398-1691085600-1691092800@www.kauhajoenmetsastys.fi
SUMMARY:Hyypän kyläosaston kesäkokous
DESCRIPTION:Tervetuloa Hyypän kyläosaston Kesäkokoukseen Hyypän Majalle 3.8.2023 klo 18.00. \nKokouksessa käsitellään sääntöjen määräämät asiat. \nOsallistua voit myös Etänä Teamsin välityksellä \nhttps://teams.microsoft.com/l/meetup-join/19%3ameeting_NTQ3ZTE1ZTAtMDQ3OC00OWE0LWFiYWYtM2IzNGQ2ZWQ1MjVk%40thread.v2/0?context=%7b%22Tid%22%3a%22ba060e1d-9fae-4262-90c1-2e47b15d5750%22%2c%22Oid%22%3a%22c74fd378-3ce7-4d42-a467-2c6444865159%22%7d \n 
URL:https://www.kauhajoenmetsastys.fi/event/hyypan-kylaosaston-kesakokous-3/
LOCATION:Hyypän Maja\, Könnönkyläntie 25\, 61940
END:VEVENT
END:VCALENDAR