BEGIN:VCALENDAR
VERSION:2.0
PRODID:-//Kauhajoen mets&auml;stysj&auml;rjest&ouml;t - ECPv6.15.19//NONSGML v1.0//EN
CALSCALE:GREGORIAN
METHOD:PUBLISH
X-ORIGINAL-URL:https://www.kauhajoenmetsastys.fi
X-WR-CALDESC:Tapahtumat Kauhajoen mets&auml;stysj&auml;rjest&ouml;t
REFRESH-INTERVAL;VALUE=DURATION:PT1H
X-Robots-Tag:noindex
X-PUBLISHED-TTL:PT1H
BEGIN:VTIMEZONE
TZID:UTC
BEGIN:STANDARD
TZOFFSETFROM:+0000
TZOFFSETTO:+0000
TZNAME:UTC
DTSTART:20220101T000000
END:STANDARD
END:VTIMEZONE
BEGIN:VEVENT
DTSTART;TZID=UTC:20230804T170000
DTEND;TZID=UTC:20230804T190000
DTSTAMP:20260423T192511
CREATED:20230530T091504Z
LAST-MODIFIED:20230530T091504Z
UID:2362-1691168400-1691175600@www.kauhajoenmetsastys.fi
SUMMARY:Hirviharjoitusammunnat 100M
DESCRIPTION:Aro-Toivakan kyläosaston pitovuoro
URL:https://www.kauhajoenmetsastys.fi/event/hirviharjoitusammunnat-100m-4/
END:VEVENT
BEGIN:VEVENT
DTSTART;TZID=UTC:20230804T180000
DTEND;TZID=UTC:20230804T210000
DTSTAMP:20260423T192511
CREATED:20230803T135332Z
LAST-MODIFIED:20230803T135332Z
UID:2415-1691172000-1691182800@www.kauhajoenmetsastys.fi
SUMMARY:Hirvikoetuomarikurssi Erähovilla
DESCRIPTION:Klo 18 hirvikoesäännöt \nklo 20\, tai edellisen aiheen loputtua\, karhutaipparisäännöt \n  \nTervetuloa!\nTerveisin hirvikoirajaosto
URL:https://www.kauhajoenmetsastys.fi/event/hirvikoetuomarikurssi-erahovilla/
LOCATION:kauhajoki erähovi\, Erähovintie 60\, Kauhajoki
END:VEVENT
END:VCALENDAR