BEGIN:VCALENDAR
VERSION:2.0
PRODID:-//Kauhajoen mets&auml;stysj&auml;rjest&ouml;t - ECPv6.15.19//NONSGML v1.0//EN
CALSCALE:GREGORIAN
METHOD:PUBLISH
X-WR-CALNAME:Kauhajoen mets&auml;stysj&auml;rjest&ouml;t
X-ORIGINAL-URL:https://www.kauhajoenmetsastys.fi
X-WR-CALDESC:Tapahtumat Kauhajoen mets&auml;stysj&auml;rjest&ouml;t
REFRESH-INTERVAL;VALUE=DURATION:PT1H
X-Robots-Tag:noindex
X-PUBLISHED-TTL:PT1H
BEGIN:VTIMEZONE
TZID:UTC
BEGIN:STANDARD
TZOFFSETFROM:+0000
TZOFFSETTO:+0000
TZNAME:UTC
DTSTART:20220101T000000
END:STANDARD
END:VTIMEZONE
BEGIN:VEVENT
DTSTART;TZID=UTC:20230807T190000
DTEND;TZID=UTC:20230807T210000
DTSTAMP:20260423T192336
CREATED:20230530T091857Z
LAST-MODIFIED:20230530T091857Z
UID:2372-1691434800-1691442000@www.kauhajoenmetsastys.fi
SUMMARY:Hirviharjoitusammunnat Ilvesjoki
DESCRIPTION:Ilvesjoen hirviharjoitusammunnat
URL:https://www.kauhajoenmetsastys.fi/event/hirviharjoitusammunnat-ilvesjoki-3/
END:VEVENT
END:VCALENDAR