BEGIN:VCALENDAR
VERSION:2.0
PRODID:-//Kauhajoen mets&auml;stysj&auml;rjest&ouml;t - ECPv6.15.19//NONSGML v1.0//EN
CALSCALE:GREGORIAN
METHOD:PUBLISH
X-ORIGINAL-URL:https://www.kauhajoenmetsastys.fi
X-WR-CALDESC:Tapahtumat Kauhajoen mets&auml;stysj&auml;rjest&ouml;t
REFRESH-INTERVAL;VALUE=DURATION:PT1H
X-Robots-Tag:noindex
X-PUBLISHED-TTL:PT1H
BEGIN:VTIMEZONE
TZID:UTC
BEGIN:STANDARD
TZOFFSETFROM:+0000
TZOFFSETTO:+0000
TZNAME:UTC
DTSTART:20220101T000000
END:STANDARD
END:VTIMEZONE
BEGIN:VEVENT
DTSTART;TZID=UTC:20230809T180000
DTEND;TZID=UTC:20230809T200000
DTSTAMP:20260423T193940
CREATED:20230730T090917Z
LAST-MODIFIED:20230730T090917Z
UID:2405-1691604000-1691611200@www.kauhajoenmetsastys.fi
SUMMARY:Mattila-Harjan omat hirviharjoitusammunnat
DESCRIPTION:Mattila-Harjan kyläosaston omat hirviharjoitusammunnat 9.8.2023 klo 18 alkaen
URL:https://www.kauhajoenmetsastys.fi/event/mattila-harjan-omat-hirviharjoitusammunnat-3/
END:VEVENT
BEGIN:VEVENT
DTSTART;TZID=UTC:20230809T190000
DTEND;TZID=UTC:20230809T210000
DTSTAMP:20260423T193940
CREATED:20230730T183026Z
LAST-MODIFIED:20230730T183026Z
UID:2411-1691607600-1691614800@www.kauhajoenmetsastys.fi
SUMMARY:Kirkonkylän kyläosaston kesäkokous
DESCRIPTION:Kauhajoen Metsästysseuran Kirkonkylän kyläosaston kesäkokous Erähovilla keskiviikkona 9.8. klo 19. Käsitellään säännöissä määrätyt asiat. Jäseneksi hakevien oltava paikalla. Tervetuloa!
URL:https://www.kauhajoenmetsastys.fi/event/kirkonkylan-kylaosaston-kesakokous/
LOCATION:kauhajoki erähovi\, Erähovintie 60\, Kauhajoki
END:VEVENT
END:VCALENDAR