BEGIN:VCALENDAR
VERSION:2.0
PRODID:-//Kauhajoen mets&auml;stysj&auml;rjest&ouml;t - ECPv6.15.19//NONSGML v1.0//EN
CALSCALE:GREGORIAN
METHOD:PUBLISH
X-WR-CALNAME:Kauhajoen mets&auml;stysj&auml;rjest&ouml;t
X-ORIGINAL-URL:https://www.kauhajoenmetsastys.fi
X-WR-CALDESC:Tapahtumat Kauhajoen mets&auml;stysj&auml;rjest&ouml;t
REFRESH-INTERVAL;VALUE=DURATION:PT1H
X-Robots-Tag:noindex
X-PUBLISHED-TTL:PT1H
BEGIN:VTIMEZONE
TZID:UTC
BEGIN:STANDARD
TZOFFSETFROM:+0000
TZOFFSETTO:+0000
TZNAME:UTC
DTSTART:20220101T000000
END:STANDARD
END:VTIMEZONE
BEGIN:VEVENT
DTSTART;TZID=UTC:20230817T180000
DTEND;TZID=UTC:20230817T200000
DTSTAMP:20260423T193541
CREATED:20230530T090406Z
LAST-MODIFIED:20230530T090406Z
UID:2339-1692295200-1692302400@www.kauhajoenmetsastys.fi
SUMMARY:Poliisien malja-ottelu Päntäne
DESCRIPTION:Poliisien malja-ottelu klo 18 alkaen
URL:https://www.kauhajoenmetsastys.fi/event/poliisien-malja-ottelu-pantane/
END:VEVENT
BEGIN:VEVENT
DTSTART;TZID=UTC:20230817T180000
DTEND;TZID=UTC:20230817T200000
DTSTAMP:20260423T193541
CREATED:20230730T164132Z
LAST-MODIFIED:20230730T164132Z
UID:2407-1692295200-1692302400@www.kauhajoenmetsastys.fi
SUMMARY:Aro-Toivakan kyläosaston kesäkokous
DESCRIPTION:Tervetuloa Aro-Toivakan kyläosaston kesäkokoukseen 17.8.2023 klo 18.00 alkaen Erähoville.
URL:https://www.kauhajoenmetsastys.fi/event/aro-toivakan-kylaosaston-kesakokous-2/
LOCATION:kauhajoki erähovi\, Erähovintie 60\, Kauhajoki
END:VEVENT
END:VCALENDAR