BEGIN:VCALENDAR
VERSION:2.0
PRODID:-//Kauhajoen mets&auml;stysj&auml;rjest&ouml;t - ECPv6.15.19//NONSGML v1.0//EN
CALSCALE:GREGORIAN
METHOD:PUBLISH
X-WR-CALNAME:Kauhajoen mets&auml;stysj&auml;rjest&ouml;t
X-ORIGINAL-URL:https://www.kauhajoenmetsastys.fi
X-WR-CALDESC:Tapahtumat Kauhajoen mets&auml;stysj&auml;rjest&ouml;t
REFRESH-INTERVAL;VALUE=DURATION:PT1H
X-Robots-Tag:noindex
X-PUBLISHED-TTL:PT1H
BEGIN:VTIMEZONE
TZID:UTC
BEGIN:STANDARD
TZOFFSETFROM:+0000
TZOFFSETTO:+0000
TZNAME:UTC
DTSTART:20220101T000000
END:STANDARD
END:VTIMEZONE
BEGIN:VEVENT
DTSTART;TZID=UTC:20230820T133000
DTEND;TZID=UTC:20230820T150000
DTSTAMP:20260423T193540
CREATED:20230803T182704Z
LAST-MODIFIED:20230803T182704Z
UID:2417-1692538200-1692543600@www.kauhajoenmetsastys.fi
SUMMARY:Nummikosken kyläosaston kesäkokous
DESCRIPTION:Nummikosken kyläosaston kokous sunnuntaina 20.8 klo 13:30 nummikosken koululla.
URL:https://www.kauhajoenmetsastys.fi/event/nummikosken-kylaosaston-kesakokous/
END:VEVENT
END:VCALENDAR