BEGIN:VCALENDAR
VERSION:2.0
PRODID:-//Kauhajoen mets&auml;stysj&auml;rjest&ouml;t - ECPv6.15.19//NONSGML v1.0//EN
CALSCALE:GREGORIAN
METHOD:PUBLISH
X-WR-CALNAME:Kauhajoen mets&auml;stysj&auml;rjest&ouml;t
X-ORIGINAL-URL:https://www.kauhajoenmetsastys.fi
X-WR-CALDESC:Tapahtumat Kauhajoen mets&auml;stysj&auml;rjest&ouml;t
REFRESH-INTERVAL;VALUE=DURATION:PT1H
X-Robots-Tag:noindex
X-PUBLISHED-TTL:PT1H
BEGIN:VTIMEZONE
TZID:UTC
BEGIN:STANDARD
TZOFFSETFROM:+0000
TZOFFSETTO:+0000
TZNAME:UTC
DTSTART:20230101T000000
END:STANDARD
END:VTIMEZONE
BEGIN:VEVENT
DTSTART;TZID=UTC:20240307T180000
DTEND;TZID=UTC:20240307T200000
DTSTAMP:20260423T080146
CREATED:20240219T063851Z
LAST-MODIFIED:20240219T063851Z
UID:2526-1709834400-1709841600@www.kauhajoenmetsastys.fi
SUMMARY:Aro-Toivakan kyläosaston vuosikokous
DESCRIPTION:Aro-Toivakan vuosikokous Torstaina 7.3.2024 klo 18:00 Erähovilla.\nLaittakaahan pienpetosaaliista ilmoituksia sihteerille.
URL:https://www.kauhajoenmetsastys.fi/event/aro-toivakan-kylaosaston-vuosikokous/
LOCATION:kauhajoki erähovi\, Erähovintie 60\, Kauhajoki
END:VEVENT
END:VCALENDAR