BEGIN:VCALENDAR
VERSION:2.0
PRODID:-//Kauhajoen mets&auml;stysj&auml;rjest&ouml;t - ECPv6.15.19//NONSGML v1.0//EN
CALSCALE:GREGORIAN
METHOD:PUBLISH
X-ORIGINAL-URL:https://www.kauhajoenmetsastys.fi
X-WR-CALDESC:Tapahtumat Kauhajoen mets&auml;stysj&auml;rjest&ouml;t
REFRESH-INTERVAL;VALUE=DURATION:PT1H
X-Robots-Tag:noindex
X-PUBLISHED-TTL:PT1H
BEGIN:VTIMEZONE
TZID:UTC
BEGIN:STANDARD
TZOFFSETFROM:+0000
TZOFFSETTO:+0000
TZNAME:UTC
DTSTART:20230101T000000
END:STANDARD
END:VTIMEZONE
BEGIN:VEVENT
DTSTART;TZID=UTC:20240403T180000
DTEND;TZID=UTC:20240403T200000
DTSTAMP:20260423T062711
CREATED:20240316T183029Z
LAST-MODIFIED:20240316T183029Z
UID:2546-1712167200-1712174400@www.kauhajoenmetsastys.fi
SUMMARY:Hyypän kyläosaston kevätkokous 3.4.2024 klo 18
DESCRIPTION:Tervetuloa Hyypän kyläosaston kevätkokoukseen Hyypän Majalle 3.4.2024 klo 18.00. \nKokouksessa käsitellään sääntöjen määräämät asiat. \nEsityslista Hyypän kyläosasto kevätkokous 2024  \nVoit osallistua kokoukseen myös Teamsilla \nhttps://teams.microsoft.com/l/meetup-join/19%3ameeting_ODNmMmM3MzYtYjRhOS00MGY5LWFkMDktY2I5MzczOTViNmIy%40thread.v2/0?context=%7b%22Tid%22%3a%22ba060e1d-9fae-4262-90c1-2e47b15d5750%22%2c%22Oid%22%3a%22c74fd378-3ce7-4d42-a467-2c6444865159%22%7d \n 
URL:https://www.kauhajoenmetsastys.fi/event/hyypan-kylaosaston-kevatkokous-3-4-2024-klo-18/
LOCATION:Hyypän Maja\, Könnönkyläntie 25\, 61940
END:VEVENT
END:VCALENDAR