BEGIN:VCALENDAR
VERSION:2.0
PRODID:-//Kauhajoen mets&auml;stysj&auml;rjest&ouml;t - ECPv6.15.19//NONSGML v1.0//EN
CALSCALE:GREGORIAN
METHOD:PUBLISH
X-ORIGINAL-URL:https://www.kauhajoenmetsastys.fi
X-WR-CALDESC:Tapahtumat Kauhajoen mets&auml;stysj&auml;rjest&ouml;t
REFRESH-INTERVAL;VALUE=DURATION:PT1H
X-Robots-Tag:noindex
X-PUBLISHED-TTL:PT1H
BEGIN:VTIMEZONE
TZID:UTC
BEGIN:STANDARD
TZOFFSETFROM:+0000
TZOFFSETTO:+0000
TZNAME:UTC
DTSTART:20230101T000000
END:STANDARD
END:VTIMEZONE
BEGIN:VEVENT
DTSTART;TZID=UTC:20240406T120000
DTEND;TZID=UTC:20240406T140000
DTSTAMP:20260423T062618
CREATED:20240310T163704Z
LAST-MODIFIED:20240310T163704Z
UID:2533-1712404800-1712412000@www.kauhajoenmetsastys.fi
SUMMARY:Ikkeläjärven kyläosaston yleinen kokous 6.4.2024 klo 12
DESCRIPTION:Yleinen kokous Kulmamäen Erämajalla Ikkeläjärvellä 6.4.2024 klo.12.00 \nKäsitellään sääntömääräiset asiat. \nJohtokunta esittää: Mauri Kaappola jatkaa yksin Ikkeläjärven kyläosaston päiväkorttien myyntiä kaudella 2024-2025
URL:https://www.kauhajoenmetsastys.fi/event/ikkelajarven-kylaosaston-yleinen-kokous-6-4-2024-klo-12/
END:VEVENT
BEGIN:VEVENT
DTSTART;TZID=UTC:20240406T143000
DTEND;TZID=UTC:20240406T160000
DTSTAMP:20260423T062618
CREATED:20240310T164143Z
LAST-MODIFIED:20240310T164143Z
UID:2539-1712413800-1712419200@www.kauhajoenmetsastys.fi
SUMMARY:Ikkeläjärven hirvimiesten erämajayhdistyksen kokous 6.4.2024 klo 14.30
DESCRIPTION:Ikkeläjärven hirvimiesten erämajayhdistyksen kokous 6.4.2024 klo 14.30 Kulmamäen Erämajalla.
URL:https://www.kauhajoenmetsastys.fi/event/ikkelajarven-hirvimiesten-eramajayhdistyksen-kokous-6-4-2024-klo-14-30/
END:VEVENT
END:VCALENDAR