BEGIN:VCALENDAR
VERSION:2.0
PRODID:-//Kauhajoen mets&auml;stysj&auml;rjest&ouml;t - ECPv6.15.19//NONSGML v1.0//EN
CALSCALE:GREGORIAN
METHOD:PUBLISH
X-ORIGINAL-URL:https://www.kauhajoenmetsastys.fi
X-WR-CALDESC:Tapahtumat Kauhajoen mets&auml;stysj&auml;rjest&ouml;t
REFRESH-INTERVAL;VALUE=DURATION:PT1H
X-Robots-Tag:noindex
X-PUBLISHED-TTL:PT1H
BEGIN:VTIMEZONE
TZID:UTC
BEGIN:STANDARD
TZOFFSETFROM:+0000
TZOFFSETTO:+0000
TZNAME:UTC
DTSTART:20230101T000000
END:STANDARD
END:VTIMEZONE
BEGIN:VEVENT
DTSTART;TZID=UTC:20240414T180000
DTEND;TZID=UTC:20240414T200000
DTSTAMP:20260423T062650
CREATED:20240403T131108Z
LAST-MODIFIED:20240403T131108Z
UID:2563-1713117600-1713124800@www.kauhajoenmetsastys.fi
SUMMARY:Kirkonkylän kyläoaston vuosikokous 14.4 klo 18
DESCRIPTION:Kauhajoen Metsästysseuran Kirkonkylän kyläosaston vuosikokous Erähovilla sunnuntaina 14.4. klo 18. \nKäsitellään säännöissä määrätyt asiat. Jäseneksi hakevien oltava paikalla. \nTervetuloa!
URL:https://www.kauhajoenmetsastys.fi/event/kirkonkylan-kylaoaston-vuosikokous-14-4-klo-18/
LOCATION:kauhajoki erähovi\, Erähovintie 60\, Kauhajoki
END:VEVENT
END:VCALENDAR