BEGIN:VCALENDAR
VERSION:2.0
PRODID:-//Kauhajoen mets&auml;stysj&auml;rjest&ouml;t - ECPv6.15.19//NONSGML v1.0//EN
CALSCALE:GREGORIAN
METHOD:PUBLISH
X-ORIGINAL-URL:https://www.kauhajoenmetsastys.fi
X-WR-CALDESC:Tapahtumat Kauhajoen mets&auml;stysj&auml;rjest&ouml;t
REFRESH-INTERVAL;VALUE=DURATION:PT1H
X-Robots-Tag:noindex
X-PUBLISHED-TTL:PT1H
BEGIN:VTIMEZONE
TZID:UTC
BEGIN:STANDARD
TZOFFSETFROM:+0000
TZOFFSETTO:+0000
TZNAME:UTC
DTSTART:20230101T000000
END:STANDARD
END:VTIMEZONE
BEGIN:VEVENT
DTSTART;TZID=UTC:20240429T180000
DTEND;TZID=UTC:20240429T200000
DTSTAMP:20260423T041953
CREATED:20240412T060715Z
LAST-MODIFIED:20240414T153251Z
UID:2584-1714413600-1714420800@www.kauhajoenmetsastys.fi
SUMMARY:Kauhajoen Metsästysseura Ry kevätkokous 29.4.2024 klo 18
DESCRIPTION:Kauhajoen Metsästysseura Ry kevätkokous 29.4.2024 klo 18 Erähovilla.\nKokouksessa käsitellään sääntöjen määräämät asiat. \nKokouksessa käsitellään Aro-Toivakan kyläosaston 25000€ suuruinen lainahakemus majan katon remonttia varten. \nKokoukseen voit osallistuta myös etänä Teamssilla\nhttps://teams.microsoft.com/l/meetup-join/19%3ameeting_Y2FjNWNjNjctNDRhNC00ODJhLTkzYjgtYjE1MWUxMTBkZGZl%40thread.v2/0?context=%7b%22Tid%22%3a%22ba060e1d-9fae-4262-90c1-2e47b15d5750%22%2c%22Oid%22%3a%22c74fd378-3ce7-4d42-a467-2c6444865159%22%7d
URL:https://www.kauhajoenmetsastys.fi/event/kauhajoen-metsastysseura-ry-kevatkokous-29-4-2024-klo-18/
LOCATION:kauhajoki erähovi\, Erähovintie 60\, Kauhajoki
END:VEVENT
END:VCALENDAR