BEGIN:VCALENDAR
VERSION:2.0
PRODID:-//Kauhajoen mets&auml;stysj&auml;rjest&ouml;t - ECPv6.15.19//NONSGML v1.0//EN
CALSCALE:GREGORIAN
METHOD:PUBLISH
X-WR-CALNAME:Kauhajoen mets&auml;stysj&auml;rjest&ouml;t
X-ORIGINAL-URL:https://www.kauhajoenmetsastys.fi
X-WR-CALDESC:Tapahtumat Kauhajoen mets&auml;stysj&auml;rjest&ouml;t
REFRESH-INTERVAL;VALUE=DURATION:PT1H
X-Robots-Tag:noindex
X-PUBLISHED-TTL:PT1H
BEGIN:VTIMEZONE
TZID:UTC
BEGIN:STANDARD
TZOFFSETFROM:+0000
TZOFFSETTO:+0000
TZNAME:UTC
DTSTART:20220101T000000
END:STANDARD
END:VTIMEZONE
BEGIN:VEVENT
DTSTART;TZID=UTC:20230601T180000
DTEND;TZID=UTC:20230601T200000
DTSTAMP:20260425T234429
CREATED:20230530T085133Z
LAST-MODIFIED:20230530T085133Z
UID:2317-1685642400-1685649600@www.kauhajoenmetsastys.fi
SUMMARY:Hirviharjoitusammunnat Päntäne klo 18
DESCRIPTION:Päntäneen metsästysseuran hirviharjoitusammunat klo 18 alkaen
URL:https://www.kauhajoenmetsastys.fi/event/hirviharjoitusammunnat-pantane-klo-18/
END:VEVENT
BEGIN:VEVENT
DTSTART;TZID=UTC:20230605T190000
DTEND;TZID=UTC:20230605T210000
DTSTAMP:20260425T234429
CREATED:20230530T091735Z
LAST-MODIFIED:20230530T091735Z
UID:2368-1685991600-1685998800@www.kauhajoenmetsastys.fi
SUMMARY:Hirviharjoitusammunnat Ilvesjoki
DESCRIPTION:Ilvesjoen hirviharjoitusammunnat
URL:https://www.kauhajoenmetsastys.fi/event/hirviharjoitusammunnat-ilvesjoki/
END:VEVENT
BEGIN:VEVENT
DTSTART;TZID=UTC:20230608T180000
DTEND;TZID=UTC:20230608T200000
DTSTAMP:20260425T234429
CREATED:20230530T085242Z
LAST-MODIFIED:20230530T085242Z
UID:2319-1686247200-1686254400@www.kauhajoenmetsastys.fi
SUMMARY:Hirviharjoitusammunnat Päntäne
DESCRIPTION:Päntäneen metsästysseuran hirviharjoitusammunat klo 18 alkaen
URL:https://www.kauhajoenmetsastys.fi/event/hirviharjoitusammunnat-pantane/
END:VEVENT
BEGIN:VEVENT
DTSTART;TZID=UTC:20230609T180000
DTEND;TZID=UTC:20230609T200000
DTSTAMP:20260425T234429
CREATED:20230530T090608Z
LAST-MODIFIED:20230530T090608Z
UID:2343-1686333600-1686340800@www.kauhajoenmetsastys.fi
SUMMARY:Hirviharjoitusammunnat Muurahainen
DESCRIPTION:Muurahaisten Erämiehien hirviharjoitusammunnat klo 18 alkaen.
URL:https://www.kauhajoenmetsastys.fi/event/hirviharjoitusammunnat-muurahainen/
END:VEVENT
BEGIN:VEVENT
DTSTART;TZID=UTC:20230615T180000
DTEND;TZID=UTC:20230615T200000
DTSTAMP:20260425T234429
CREATED:20230530T085317Z
LAST-MODIFIED:20230530T085317Z
UID:2321-1686852000-1686859200@www.kauhajoenmetsastys.fi
SUMMARY:Hirviharjoitusammunnat Päntäne
DESCRIPTION:Päntäneen metsästysseuran hirviharjoitusammunat klo 18 alkaen
URL:https://www.kauhajoenmetsastys.fi/event/hirviharjoitusammunnat-pantane-2/
END:VEVENT
BEGIN:VEVENT
DTSTART;TZID=UTC:20230616T170000
DTEND;TZID=UTC:20230616T190000
DTSTAMP:20260425T234429
CREATED:20230530T091133Z
LAST-MODIFIED:20230530T091133Z
UID:2352-1686934800-1686942000@www.kauhajoenmetsastys.fi
SUMMARY:Hirviharjoitusammunnat 75M
DESCRIPTION:Kirkonkylän kyläosaston pitovuoro
URL:https://www.kauhajoenmetsastys.fi/event/hirviharjoitusammunnat-75m-2/
END:VEVENT
BEGIN:VEVENT
DTSTART;TZID=UTC:20230622T180000
DTEND;TZID=UTC:20230622T200000
DTSTAMP:20260425T234429
CREATED:20230530T085416Z
LAST-MODIFIED:20230530T085417Z
UID:2323-1687456800-1687464000@www.kauhajoenmetsastys.fi
SUMMARY:Hirviharjoitusammunnat Päntäne
DESCRIPTION:Päntäneen metsästysseuran hirviharjoitusammunat klo 18 alkaen
URL:https://www.kauhajoenmetsastys.fi/event/hirviharjoitusammunnat-pantane-3/
END:VEVENT
BEGIN:VEVENT
DTSTART;TZID=UTC:20230629T180000
DTEND;TZID=UTC:20230629T200000
DTSTAMP:20260425T234429
CREATED:20230530T085454Z
LAST-MODIFIED:20230530T085454Z
UID:2325-1688061600-1688068800@www.kauhajoenmetsastys.fi
SUMMARY:Hirviharjoitusammunnat Päntäne
DESCRIPTION:Päntäneen metsästysseuran hirviharjoitusammunat klo 18 alkaen
URL:https://www.kauhajoenmetsastys.fi/event/hirviharjoitusammunnat-pantane-4/
END:VEVENT
END:VCALENDAR